BEGIN:VCALENDAR
VERSION:2.0
PRODID:icalendar-ruby
CALSCALE:GREGORIAN
BEGIN:VEVENT
DTSTAMP:20260423T103008Z
UID:8e9db3f5-cae7-4b54-aab6-391e25e6b78c
DTSTART;VALUE=DATE:20251203
DESCRIPTION:Property ID# 600410\, Time: 11:30AM
SUMMARY:Auction for 
END:VEVENT
END:VCALENDAR
