BEGIN:VCALENDAR
VERSION:2.0
PRODID:icalendar-ruby
CALSCALE:GREGORIAN
BEGIN:VEVENT
DTSTAMP:20260419T144644Z
UID:4ef78eaf-3e1b-482c-b6ae-e9ee208fccce
DTSTART;VALUE=DATE:20260416
DESCRIPTION:Property ID# 605629\, Locatoin: EVES Auction Room: 247 Cameron 
 Road\, Tauranga (unless sold prior)	\, Time: 1:00PM
SUMMARY:Auction for B/30 Hartford Avenue
END:VEVENT
END:VCALENDAR
