BEGIN:VCALENDAR
VERSION:2.0
PRODID:icalendar-ruby
CALSCALE:GREGORIAN
BEGIN:VEVENT
DTSTAMP:20260423T103518Z
UID:eed8b10b-982e-4f4f-a2cb-a92742a314e2
DTSTART;VALUE=DATE:20260422
DESCRIPTION:Property ID# 606076\, Locatoin: Harcourts Auction Rooms\, 1 Thi
 rd Avenue\, Tauranga\, Time: 11:30AM
SUMMARY:Auction for 
END:VEVENT
END:VCALENDAR
